BEGIN:VCALENDAR
VERSION:2.0
PRODID:-//wp-events-plugin.com//6.6.3//EN
BEGIN:VEVENT
UID:9@myvapna.org
DTSTART;VALUE=DATE:20230901
DTEND;VALUE=DATE:20240101
DTSTAMP:20231104T164250Z
URL:https://myvapna.org/events/membership/
SUMMARY:Join Today!
DESCRIPTION:Only $50 to Join!\n\nMember Benefits:\n\n 	Continuing education
  credits for VAPNA conferences and other programs.\n 	Support for students
  and new practitioners\n 	Networking opportunities.\n 	Professional develo
 pment opportunities\n
ATTACH;FMTTYPE=image/jpeg:https://myvapna.org/wp-content/uploads/2016/10/6
 3663214_m.jpg
CATEGORIES:Monthly Meetings
END:VEVENT
END:VCALENDAR