BEGIN:VCALENDAR
VERSION:2.0
PRODID:-//wp-events-plugin.com//6.6.3//EN
BEGIN:VEVENT
UID:216@myvapna.org
DTSTART:20191109T121500Z
DTEND:20191109T124500Z
DTSTAMP:20190927T022026Z
URL:https://myvapna.org/events/boothsponsorevent/
SUMMARY:Booth/Sponsor Registration
DESCRIPTION:Dear Sponsor\,\n\nThe Valley Advanced Practice Nurses Associati
 on (VAPNA) invites you to participate in our 15th Annual Conference titled
  “APRN’s Excellence in Practice\,” on November 09\, 2019 at the Edin
 burg Conference Center at Renaissance. This seminar will provide CEU’s a
 nd caters to the Advanced Practice Registered Nurse who manage and treat p
 atients throughout the lifespan. This is our 15th year and expect to have 
 between 85-95 attendees.\n\nAttached\, you will find the Sponsor/Exhibitor
  Application for you to fill out and return with a check or credit card in
 formation no later than October 30\, 2019.  Thank you for your participat
 ion in our 15th Annual VAPNA Conference.  We appreciate how you provide u
 s with up-to-date pharmacological/therapeutic information and quality prod
 ucts for our patients.\n\nAll sponsors are asked to donate a door prize if
  feasible\, to be raffled away during the seminar sessions.  Recognition 
 of the donor-sponsored door prizes will be announced with each raffle.\n\n
 Please contact me if you have any questions.\n\nSincerely\,\n\n\n\n&nbsp\;
 \n\nBBautista\, DNP\, APRN\, FNP-BC\, CCD\, CDE\nValley Advanced Practice 
 Nurse Association\, President\nbbautista1115@yahoo.com\n\nAll exhibitors a
 re encouraged to donate a door prize\n\nSponsor Application/Payment Deadli
 ne: October 30\, 2019  Make Checks Payable to VAPNA or\nMail to:   VAPN
 A\, c/o Lilia Fuentes 317 Thunderbird\, McAllen\, TX 78504\n\nDownload For
 ms\n[box type="bio"] [button link="https://myvapna.a2hosted.com/wp-content
 /uploads/2019/09/VAPNA-Sponsor-Contract-2019.pdf" color="blue" newwindow="
 yes"]Booth/Sponsor Form[/button][button link="https://myvapna.a2hosted.com
 /wp-content/uploads/2019/09/2019-VAPNA-Conference-Brochure.pdf" newwindow=
 "yes" color="silver"] Conference Brochure[/button][/box]\n\nDownload iCAL 
 file
CATEGORIES:Annual Conference,Conference Sponsor,Exhibitor,Sponsor
LOCATION:Edinburg Conference Center at Renaissance\, 118 Paseo Del Prado\, 
 Edinburg\, Texas\, 78539\, 
GEO:26.2554791;-98.20065239999997
X-APPLE-STRUCTURED-LOCATION;VALUE=URI;X-ADDRESS=118 Paseo Del Prado\, Edinb
 urg\, Texas\, 78539\, ;X-APPLE-RADIUS=100;X-TITLE=Edinburg Conference Cent
 er at Renaissance:geo:26.2554791,-98.20065239999997
END:VEVENT
END:VCALENDAR