BEGIN:VCALENDAR
VERSION:2.0
PRODID:-//wp-events-plugin.com//6.6.3//EN
BEGIN:VEVENT
UID:159@myvapna.org
DTSTART:20171004T050000Z
DTEND:20171111T050000Z
DTSTAMP:20171005T181635Z
URL:https://myvapna.org/events/13th-annual-conference-sponsor/
SUMMARY:13th Annual Conference Sponsor
DESCRIPTION:Dear Sponsor\,\n\nThe Valley Advanced Practice Nurses Associati
 on (VAPNA) invites you to participate in our 13th Annual Conference on Nov
 ember 11\, 2017 at the Edinburg Conference Center at Renaissance. This sem
 inar will provide CEU’s and caters to the Advanced Practice Registered N
 urse who manage and treat patients throughout the lifespan. This is our 13
 th year and expect to have between 85-95 attendees.\n\nBelow\, you will fi
 nd the Sponsor/Exhibitor Application for you to fill out and return with a
  check or credit card information no later than October 15\, 2017.  Thank
  you for your participation in our 13th Annual VAPNA Conference.  We appr
 eciate how you provide us with up-to-date pharmacological/therapeutic info
 rmation and quality products for our patients.\n\nAll sponsors are asked t
 o donate a door prize if feasible\, to be raffled away during the seminar 
 sessions.  Recognition of the donor-sponsored door prizes will be announc
 ed with each raffle.\n\nPlease contact me if you have any questions.\n\nSi
 ncerely\,\n\n\n\n&nbsp\;\n\nBBautista\, DNP\, APRN\, FNP-BC\, CCD\, CDE\nV
 alley Advanced Practice Nurse Association\, President\nbbautista1115@yahoo
 .com\n\nAll exhibitors are encouraged to donate a door prize\n\nSponsor Ap
 plication/Payment Deadline: October 15\, 2017.  Make Checks Payable to VA
 PNA or\nMail to:   VAPNA\, c/o B. Bautista 1701 Edward Drive\, Edinburg\
 , TX 78539\n\nDownload Forms\n[box type="bio"] [button link="https://myvap
 na.a2hosted.com/wp-content/uploads/2017/06/VAPNA-Sponsor-Contract-2017.pdf
 " color="orange"]Sponsor  Application[/button] [button link="https://myv
 apna.a2hosted.com/wp-content/uploads/2017/06/VAPNA-Sponsor-Contract-2017.p
 df" color="teal"] Exhibitor Application [/button] [button link="" newwindo
 w="yes" color="silver"] Conference Brochure[/button][/box]\n\n
CATEGORIES:Monthly Meetings
LOCATION:Edinburg Conference Center at Renaissance\, 118 Paseo Del Prado\, 
 Edinburg\, Texas\, 78539\, 
GEO:26.2554791;-98.20065239999997
X-APPLE-STRUCTURED-LOCATION;VALUE=URI;X-ADDRESS=118 Paseo Del Prado\, Edinb
 urg\, Texas\, 78539\, ;X-APPLE-RADIUS=100;X-TITLE=Edinburg Conference Cent
 er at Renaissance:geo:26.2554791,-98.20065239999997
END:VEVENT
END:VCALENDAR